BEGIN:VCALENDAR
VERSION:2.0
PRODID:-//Epstein ATRI - ECPv6.15.13//NONSGML v1.0//EN
CALSCALE:GREGORIAN
METHOD:PUBLISH
X-WR-CALNAME:Epstein ATRI
X-ORIGINAL-URL:https://atri.usc.edu
X-WR-CALDESC:Events for Epstein ATRI
REFRESH-INTERVAL;VALUE=DURATION:PT1H
X-Robots-Tag:noindex
X-PUBLISHED-TTL:PT1H
BEGIN:VTIMEZONE
TZID:America/Los_Angeles
BEGIN:DAYLIGHT
TZOFFSETFROM:-0800
TZOFFSETTO:-0700
TZNAME:PDT
DTSTART:20240310T100000
END:DAYLIGHT
BEGIN:STANDARD
TZOFFSETFROM:-0700
TZOFFSETTO:-0800
TZNAME:PST
DTSTART:20241103T090000
END:STANDARD
BEGIN:DAYLIGHT
TZOFFSETFROM:-0800
TZOFFSETTO:-0700
TZNAME:PDT
DTSTART:20250309T100000
END:DAYLIGHT
BEGIN:STANDARD
TZOFFSETFROM:-0700
TZOFFSETTO:-0800
TZNAME:PST
DTSTART:20251102T090000
END:STANDARD
BEGIN:DAYLIGHT
TZOFFSETFROM:-0800
TZOFFSETTO:-0700
TZNAME:PDT
DTSTART:20260308T100000
END:DAYLIGHT
BEGIN:STANDARD
TZOFFSETFROM:-0700
TZOFFSETTO:-0800
TZNAME:PST
DTSTART:20261101T090000
END:STANDARD
END:VTIMEZONE
BEGIN:VEVENT
DTSTART;VALUE=DATE:20250921
DTEND;VALUE=DATE:20250922
DTSTAMP:20260423T064912
CREATED:20250606T181857Z
LAST-MODIFIED:20250822T195013Z
UID:10000032-1758412800-1758499199@atri.usc.edu
SUMMARY:World Alzheimer’s Day
DESCRIPTION:                                                                                                           World Alzheimer’s Day is observed annually worldwide on September 21. \n  \nWorld Alzheimer’s Day raises global awareness about Alzheimer’s disease and other dementias.  ATRI joins our partner organizations as we honor the millions of individuals and families affected by these conditions and highlights the urgent need for improved care\, support\, and research. \nOur world needs better treatment through better trials for these diseases\, and it is our mission to pursue this goal until there is a cure.
URL:https://atri.usc.edu/event/world-alzheimers-day/
LOCATION:CA
ATTACH;FMTTYPE=image/webp:https://atri.usc.edu/wp-content/uploads/2022/12/Rectangle-219-11.webp
END:VEVENT
BEGIN:VEVENT
DTSTART;TZID=America/Los_Angeles:20250922T184000
DTEND;TZID=America/Los_Angeles:20250922T184000
DTSTAMP:20260423T064912
CREATED:20250606T181000Z
LAST-MODIFIED:20250609T181956Z
UID:10000030-1758566400-1758566400@atri.usc.edu
SUMMARY:San Diego Padres Alzheimer's Awareness Night
DESCRIPTION:On Monday September 22\, 2025\, join ATRI at Petco Park in San Diego for an evening of baseball in support of a common interest: Alzheimer’s awareness! The Padres will take on the Milwaukee Brewers in a game that begins at 6:40 p.m. To purchase tickets\, visit: mlb.com/padres/. We hope to see you there!
URL:https://atri.usc.edu/event/san-diego-padres-alzheimers-awareness-night/
LOCATION:Petco Park\, 100 Park Blvd\, San Diego\, CA\, 92101\, United States
ATTACH;FMTTYPE=image/jpeg:https://atri.usc.edu/wp-content/uploads/2025/06/Padres-1.jpg
END:VEVENT
END:VCALENDAR